BEGIN:VCALENDAR
VERSION:2.0
PRODID:-//AKM Italia &amp; AKM Swiss - ECPv6.11.2//NONSGML v1.0//EN
CALSCALE:GREGORIAN
METHOD:PUBLISH
X-ORIGINAL-URL:http://www.akm-italia.it
X-WR-CALDESC:Eventi per AKM Italia &amp; AKM Swiss
REFRESH-INTERVAL;VALUE=DURATION:PT1H
X-Robots-Tag:noindex
X-PUBLISHED-TTL:PT1H
BEGIN:VTIMEZONE
TZID:UTC
BEGIN:STANDARD
TZOFFSETFROM:+0000
TZOFFSETTO:+0000
TZNAME:UTC
DTSTART:20200101T000000
END:STANDARD
END:VTIMEZONE
BEGIN:VEVENT
DTSTART;TZID=UTC:20200208T143000
DTEND;TZID=UTC:20200208T173000
DTSTAMP:20260424T091902
CREATED:20200125T162458Z
LAST-MODIFIED:20200125T162458Z
UID:6634-1581172200-1581183000@www.akm-italia.it
SUMMARY:"Non solo il 25 Novembre"
DESCRIPTION:
URL:http://www.akm-italia.it/evento/non-solo-il-25-novembre/
LOCATION:Via Marzabotto\, 3 Paderno Dugnano\, Via Marzabotto\, 3\, Paderno Dugnano\, Italia
CATEGORIES:Manifestazione
ATTACH;FMTTYPE=image/jpeg:http://www.akm-italia.it/wp-content/uploads/08-02-20-akm-italia.jpg
END:VEVENT
END:VCALENDAR